BEGIN:VCALENDAR
VERSION:2.0
PRODID:-//Comité Stratégique de Filière Logiciels et Solutions Numériques de Confiance - ECPv6.13.2.1//NONSGML v1.0//EN
CALSCALE:GREGORIAN
METHOD:PUBLISH
X-WR-CALNAME:Comité Stratégique de Filière Logiciels et Solutions Numériques de Confiance
X-ORIGINAL-URL:https://numeriquedeconfiance.fr
X-WR-CALDESC:Évènements pour Comité Stratégique de Filière Logiciels et Solutions Numériques de Confiance
REFRESH-INTERVAL;VALUE=DURATION:PT1H
X-Robots-Tag:noindex
X-PUBLISHED-TTL:PT1H
BEGIN:VTIMEZONE
TZID:Europe/Paris
BEGIN:DAYLIGHT
TZOFFSETFROM:+0100
TZOFFSETTO:+0200
TZNAME:CEST
DTSTART:20260329T010000
END:DAYLIGHT
BEGIN:STANDARD
TZOFFSETFROM:+0200
TZOFFSETTO:+0100
TZNAME:CET
DTSTART:20261025T010000
END:STANDARD
END:VTIMEZONE
BEGIN:VEVENT
DTSTART;TZID=Europe/Paris:20260916T113000
DTEND;TZID=Europe/Paris:20260916T123000
DTSTAMP:20260426T035033
CREATED:20260119T110421Z
LAST-MODIFIED:20260119T110421Z
UID:927-1789558200-1789561800@numeriquedeconfiance.fr
SUMMARY:Réunion du comité de pilotage du Groupe de Travail 2
DESCRIPTION:Réunion mensuelle du comité de pilotage du Groupe de Travail 2 « Innovation et formation » : revue de l’avancée des ambitions et des livrables attribués au Groupe de Travail par le contrat de filière.
URL:https://numeriquedeconfiance.fr/index.php/event/reunion-du-comite-de-pilotage-du-groupe-de-travail-2-9/
END:VEVENT
END:VCALENDAR