BEGIN:VCALENDAR
VERSION:2.0
PRODID:-//Comité Stratégique de Filière Logiciels et Solutions Numériques de Confiance - ECPv6.13.2.1//NONSGML v1.0//EN
CALSCALE:GREGORIAN
METHOD:PUBLISH
X-ORIGINAL-URL:https://numeriquedeconfiance.fr
X-WR-CALDESC:Évènements pour Comité Stratégique de Filière Logiciels et Solutions Numériques de Confiance
REFRESH-INTERVAL;VALUE=DURATION:PT1H
X-Robots-Tag:noindex
X-PUBLISHED-TTL:PT1H
BEGIN:VTIMEZONE
TZID:Europe/Paris
BEGIN:DAYLIGHT
TZOFFSETFROM:+0100
TZOFFSETTO:+0200
TZNAME:CEST
DTSTART:20250330T010000
END:DAYLIGHT
BEGIN:STANDARD
TZOFFSETFROM:+0200
TZOFFSETTO:+0100
TZNAME:CET
DTSTART:20251026T010000
END:STANDARD
BEGIN:DAYLIGHT
TZOFFSETFROM:+0100
TZOFFSETTO:+0200
TZNAME:CEST
DTSTART:20260329T010000
END:DAYLIGHT
BEGIN:STANDARD
TZOFFSETFROM:+0200
TZOFFSETTO:+0100
TZNAME:CET
DTSTART:20261025T010000
END:STANDARD
END:VTIMEZONE
BEGIN:VEVENT
DTSTART;TZID=Europe/Paris:20260415T113000
DTEND;TZID=Europe/Paris:20260415T123000
DTSTAMP:20260425T193330
CREATED:20260119T105407Z
LAST-MODIFIED:20260119T105407Z
UID:914-1776252600-1776256200@numeriquedeconfiance.fr
SUMMARY:Réunion du comité de pilotage du Groupe de Travail 2
DESCRIPTION:Réunion mensuelle du comité de pilotage du Groupe de Travail 2 « Innovation et formation » : revue de l’avancée des ambitions et des livrables attribués au Groupe de Travail par le contrat de filière.
URL:https://numeriquedeconfiance.fr/index.php/event/reunion-du-comite-de-pilotage-du-groupe-de-travail-2-4/
END:VEVENT
BEGIN:VEVENT
DTSTART;TZID=Europe/Paris:20260415T110000
DTEND;TZID=Europe/Paris:20260415T120000
DTSTAMP:20260425T193330
CREATED:20260129T150703Z
LAST-MODIFIED:20260129T150703Z
UID:978-1776250800-1776254400@numeriquedeconfiance.fr
SUMMARY:Réunion du comité de pilotage du Groupe de Travail 3
DESCRIPTION:Réunion mensuelle du comité de pilotage du Groupe de Travail 3 « Données Sensibles » : revue de l’avancée des ambitions et des livrables attribués au Groupe de Travail par le contrat de filière.
URL:https://numeriquedeconfiance.fr/index.php/event/reunion-du-comite-de-pilotage-du-groupe-de-travail-3-3/
END:VEVENT
BEGIN:VEVENT
DTSTART;TZID=Europe/Paris:20260410T100000
DTEND;TZID=Europe/Paris:20260410T110000
DTSTAMP:20260425T193330
CREATED:20260204T110701Z
LAST-MODIFIED:20260204T110701Z
UID:1014-1775815200-1775818800@numeriquedeconfiance.fr
SUMMARY:Réunion du comité de pilotage du Groupe de Travail 1
DESCRIPTION:Réunion bimestrielle du comité de pilotage du Groupe de Travail 1 « Solutions » : revue de l’avancée des ambitions et des livrables attribués au Groupe de Travail par le contrat de filière.
URL:https://numeriquedeconfiance.fr/index.php/event/reunion-du-comite-de-pilotage-du-groupe-de-travail-1-3/
END:VEVENT
BEGIN:VEVENT
DTSTART;TZID=Europe/Paris:20260408T143000
DTEND;TZID=Europe/Paris:20260408T153000
DTSTAMP:20260425T193330
CREATED:20260121T161332Z
LAST-MODIFIED:20260121T161332Z
UID:941-1775658600-1775662200@numeriquedeconfiance.fr
SUMMARY:Réunion du comité de pilotage du Groupe de Travail 5 Export
DESCRIPTION:Réunion mensuelle du comité de pilotage du Groupe de Travail 5 « Export » : revue de l’avancée des ambitions et des livrables attribués au Groupe de Travail par le contrat de filière.
URL:https://numeriquedeconfiance.fr/index.php/event/reunion-du-comite-de-pilotage-du-groupe-de-travail-5-export-3/
END:VEVENT
BEGIN:VEVENT
DTSTART;TZID=Europe/Paris:20260407T143000
DTEND;TZID=Europe/Paris:20260407T160000
DTSTAMP:20260425T193330
CREATED:20260119T102336Z
LAST-MODIFIED:20260119T102336Z
UID:887-1775572200-1775577600@numeriquedeconfiance.fr
SUMMARY:Réunion des coprésidents des groupes de travail
DESCRIPTION:Réunion mensuelle des coprésidents des groupes de travail avec revue de l’avancée des ambitions et des livrables du contrat de filière.
URL:https://numeriquedeconfiance.fr/index.php/event/reunion-des-copresidents-des-groupes-de-travail-3/
END:VEVENT
BEGIN:VEVENT
DTSTART;TZID=Europe/Paris:20260318T113000
DTEND;TZID=Europe/Paris:20260318T123000
DTSTAMP:20260425T193330
CREATED:20260119T105143Z
LAST-MODIFIED:20260119T105143Z
UID:912-1773833400-1773837000@numeriquedeconfiance.fr
SUMMARY:Réunion du comité de pilotage du Groupe de Travail 2
DESCRIPTION:Réunion mensuelle du comité de pilotage du Groupe de Travail 2 « Innovation et formation » : revue de l’avancée des ambitions et des livrables attribués au Groupe de Travail par le contrat de filière.
URL:https://numeriquedeconfiance.fr/index.php/event/reunion-du-comite-de-pilotage-du-groupe-de-travail-2-3/
END:VEVENT
BEGIN:VEVENT
DTSTART;TZID=Europe/Paris:20260317T110000
DTEND;TZID=Europe/Paris:20260317T120000
DTSTAMP:20260425T193330
CREATED:20260129T150555Z
LAST-MODIFIED:20260129T150555Z
UID:976-1773745200-1773748800@numeriquedeconfiance.fr
SUMMARY:Réunion du comité de pilotage du Groupe de Travail 3
DESCRIPTION:Réunion mensuelle du comité de pilotage du Groupe de Travail 3 « Données Sensibles » : revue de l’avancée des ambitions et des livrables attribués au Groupe de Travail par le contrat de filière.
URL:https://numeriquedeconfiance.fr/index.php/event/reunion-du-comite-de-pilotage-du-groupe-de-travail-3-2/
END:VEVENT
BEGIN:VEVENT
DTSTART;TZID=Europe/Paris:20260313T100000
DTEND;TZID=Europe/Paris:20260313T110000
DTSTAMP:20260425T193330
CREATED:20260204T110610Z
LAST-MODIFIED:20260204T110610Z
UID:1012-1773396000-1773399600@numeriquedeconfiance.fr
SUMMARY:Réunion du comité de pilotage du Groupe de Travail 1
DESCRIPTION:Réunion bimestrielle du comité de pilotage du Groupe de Travail 1 « Solutions » : revue de l’avancée des ambitions et des livrables attribués au Groupe de Travail par le contrat de filière.
URL:https://numeriquedeconfiance.fr/index.php/event/reunion-du-comite-de-pilotage-du-groupe-de-travail-1-2/
END:VEVENT
BEGIN:VEVENT
DTSTART;TZID=Europe/Paris:20260311T143000
DTEND;TZID=Europe/Paris:20260311T153000
DTSTAMP:20260425T193330
CREATED:20260121T161235Z
LAST-MODIFIED:20260121T161235Z
UID:939-1773239400-1773243000@numeriquedeconfiance.fr
SUMMARY:Réunion du comité de pilotage du Groupe de Travail 5 Export
DESCRIPTION:Réunion mensuelle du comité de pilotage du Groupe de Travail 5 « Export » : revue de l’avancée des ambitions et des livrables attribués au Groupe de Travail par le contrat de filière.
URL:https://numeriquedeconfiance.fr/index.php/event/reunion-du-comite-de-pilotage-du-groupe-de-travail-5-export-2/
END:VEVENT
BEGIN:VEVENT
DTSTART;TZID=Europe/Paris:20260310T143000
DTEND;TZID=Europe/Paris:20260310T160000
DTSTAMP:20260425T193330
CREATED:20260119T102218Z
LAST-MODIFIED:20260119T102218Z
UID:885-1773153000-1773158400@numeriquedeconfiance.fr
SUMMARY:Réunion des coprésidents des groupes de travail
DESCRIPTION:Réunion mensuelle des coprésidents des groupes de travail avec revue de l’avancée des ambitions et des livrables du contrat de filière.
URL:https://numeriquedeconfiance.fr/index.php/event/reunion-des-copresidents-des-groupes-de-travail-2/
END:VEVENT
BEGIN:VEVENT
DTSTART;TZID=Europe/Paris:20260220T110000
DTEND;TZID=Europe/Paris:20260220T120000
DTSTAMP:20260425T193330
CREATED:20260129T150442Z
LAST-MODIFIED:20260129T150442Z
UID:972-1771585200-1771588800@numeriquedeconfiance.fr
SUMMARY:Réunion du comité de pilotage du Groupe de Travail 3
DESCRIPTION:Réunion mensuelle du comité de pilotage du Groupe de Travail 3 « Données Sensibles » : revue de l’avancée des ambitions et des livrables attribués au Groupe de Travail par le contrat de filière.
URL:https://numeriquedeconfiance.fr/index.php/event/reunion-du-comite-de-pilotage-du-groupe-de-travail-3/
END:VEVENT
BEGIN:VEVENT
DTSTART;TZID=Europe/Paris:20260218T113000
DTEND;TZID=Europe/Paris:20260218T123000
DTSTAMP:20260425T193330
CREATED:20260119T105003Z
LAST-MODIFIED:20260119T105003Z
UID:910-1771414200-1771417800@numeriquedeconfiance.fr
SUMMARY:Réunion du comité de pilotage du Groupe de Travail 2
DESCRIPTION:Réunion mensuelle du comité de pilotage du Groupe de Travail 2 « Innovation et formation » : revue de l’avancée des ambitions et des livrables attribués au Groupe de Travail par le contrat de filière.
URL:https://numeriquedeconfiance.fr/index.php/event/reunion-du-comite-de-pilotage-du-groupe-de-travail-2-2/
END:VEVENT
BEGIN:VEVENT
DTSTART;TZID=Europe/Paris:20260213T100000
DTEND;TZID=Europe/Paris:20260213T110000
DTSTAMP:20260425T193330
CREATED:20260204T110506Z
LAST-MODIFIED:20260204T110506Z
UID:1010-1770976800-1770980400@numeriquedeconfiance.fr
SUMMARY:Réunion du comité de pilotage du Groupe de Travail 1
DESCRIPTION:Réunion bimestrielle du comité de pilotage du Groupe de Travail 1 « Solutions » : revue de l’avancée des ambitions et des livrables attribués au Groupe de Travail par le contrat de filière.
URL:https://numeriquedeconfiance.fr/index.php/event/reunion-du-comite-de-pilotage-du-groupe-de-travail-1/
END:VEVENT
BEGIN:VEVENT
DTSTART;TZID=Europe/Paris:20260211T143000
DTEND;TZID=Europe/Paris:20260211T153000
DTSTAMP:20260425T193330
CREATED:20260121T161127Z
LAST-MODIFIED:20260121T161127Z
UID:937-1770820200-1770823800@numeriquedeconfiance.fr
SUMMARY:Réunion du comité de pilotage du Groupe de Travail 5 Export
DESCRIPTION:Réunion mensuelle du comité de pilotage du Groupe de Travail 5 « Export » : revue de l’avancée des ambitions et des livrables attribués au Groupe de Travail par le contrat de filière.
URL:https://numeriquedeconfiance.fr/index.php/event/reunion-du-comite-de-pilotage-du-groupe-de-travail-5-export/
END:VEVENT
BEGIN:VEVENT
DTSTART;TZID=Europe/Paris:20260210T143000
DTEND;TZID=Europe/Paris:20260210T160000
DTSTAMP:20260425T193330
CREATED:20260119T091204Z
LAST-MODIFIED:20260119T091324Z
UID:880-1770733800-1770739200@numeriquedeconfiance.fr
SUMMARY:Réunion des coprésidents des groupes de travail
DESCRIPTION:
URL:https://numeriquedeconfiance.fr/index.php/event/reunion-des-copresidents-des-groupes-de-travail/
END:VEVENT
BEGIN:VEVENT
DTSTART;TZID=Europe/Paris:20260206T160000
DTEND;TZID=Europe/Paris:20260206T173000
DTSTAMP:20260425T193330
CREATED:20260119T104440Z
LAST-MODIFIED:20260119T104440Z
UID:906-1770393600-1770399000@numeriquedeconfiance.fr
SUMMARY:Réunion du comité de pilotage du Groupe de Travail 4
DESCRIPTION:Réunion bimestrielle du comité de pilotage du Groupe de Travail 4 « Commande Publique et Privée » : revue de l’avancée des ambitions et des livrables attribués au Groupe de Travail par le contrat de filière.
URL:https://numeriquedeconfiance.fr/index.php/event/reunion-du-comite-de-pilotage-du-groupe-de-travail-4/
END:VEVENT
BEGIN:VEVENT
DTSTART;TZID=Europe/Paris:20260206T113000
DTEND;TZID=Europe/Paris:20260206T123000
DTSTAMP:20260425T193330
CREATED:20260122T161237Z
LAST-MODIFIED:20260122T161237Z
UID:968-1770377400-1770381000@numeriquedeconfiance.fr
SUMMARY:Réunion du comité de pilotage du Sous-Groupe de Travail 2.2
DESCRIPTION:Réunion mensuelle du comité de pilotage du Groupe de Travail 2.2 « Accélération » : revue de l’avancée des ambitions et des livrables attribués au Groupe de Travail par le contrat de filière.
URL:https://numeriquedeconfiance.fr/index.php/event/reunion-du-comite-de-pilotage-du-sous-groupe-de-travail-2-2/
END:VEVENT
BEGIN:VEVENT
DTSTART;TZID=Europe/Paris:20260127T143000
DTEND;TZID=Europe/Paris:20260127T153000
DTSTAMP:20260425T193330
CREATED:20260122T162250Z
LAST-MODIFIED:20260122T162250Z
UID:970-1769524200-1769527800@numeriquedeconfiance.fr
SUMMARY:Réunion du comité de pilotage du Sous-Groupe de Travail 1.1
DESCRIPTION:Réunion mensuelle du comité de pilotage du Groupe de Travail 1.1 « Cloud et sécurité » : revue de l’avancée des ambitions et des livrables attribués au Groupe de Travail par le contrat de filière.
URL:https://numeriquedeconfiance.fr/index.php/event/reunion-du-comite-de-pilotage-du-sous-groupe-de-travail-1-1/
END:VEVENT
BEGIN:VEVENT
DTSTART;TZID=Europe/Paris:20260121T113000
DTEND;TZID=Europe/Paris:20260121T123000
DTSTAMP:20260425T193330
CREATED:20260119T104827Z
LAST-MODIFIED:20260119T104827Z
UID:908-1768995000-1768998600@numeriquedeconfiance.fr
SUMMARY:Réunion du comité de pilotage du Groupe de Travail 2
DESCRIPTION:Réunion mensuelle du comité de pilotage du Groupe de Travail 2 « Innovation et formation » : revue de l’avancée des ambitions et des livrables attribués au Groupe de Travail par le contrat de filière.
URL:https://numeriquedeconfiance.fr/index.php/event/reunion-du-comite-de-pilotage-du-groupe-de-travail-2/
END:VEVENT
BEGIN:VEVENT
DTSTART;TZID=Europe/Paris:20251217T143000
DTEND;TZID=Europe/Paris:20251217T153000
DTSTAMP:20260425T193330
CREATED:20250701T150405Z
LAST-MODIFIED:20250701T150405Z
UID:660-1765981800-1765985400@numeriquedeconfiance.fr
SUMMARY:Réunion du GT5 – Export (Décembre 2025)
DESCRIPTION:
URL:https://numeriquedeconfiance.fr/index.php/event/reunion-du-gt5-export-decembre-2025/
END:VEVENT
BEGIN:VEVENT
DTSTART;TZID=Europe/Paris:20251216T100000
DTEND;TZID=Europe/Paris:20251216T110000
DTSTAMP:20260425T193330
CREATED:20250623T114502Z
LAST-MODIFIED:20250623T114502Z
UID:645-1765879200-1765882800@numeriquedeconfiance.fr
SUMMARY:Réunion du bureau du GT3 – Données sensibles (Décembre 2025)
DESCRIPTION:
URL:https://numeriquedeconfiance.fr/index.php/event/reunion-du-bureau-du-gt3-donnees-sensibles-decembre-2025/
END:VEVENT
BEGIN:VEVENT
DTSTART;TZID=Europe/Paris:20251202T140000
DTEND;TZID=Europe/Paris:20251202T150000
DTSTAMP:20260425T193330
CREATED:20250616T131528Z
LAST-MODIFIED:20250616T131528Z
UID:614-1764684000-1764687600@numeriquedeconfiance.fr
SUMMARY:Réunion des co-présidents du CSF (Décembre 2025)
DESCRIPTION:
URL:https://numeriquedeconfiance.fr/index.php/event/reunion-des-co-presidents-du-csf-decembre-2025/
END:VEVENT
BEGIN:VEVENT
DTSTART;TZID=Europe/Paris:20251120T100000
DTEND;TZID=Europe/Paris:20251120T110000
DTSTAMP:20260425T193330
CREATED:20250623T114422Z
LAST-MODIFIED:20250623T114422Z
UID:643-1763632800-1763636400@numeriquedeconfiance.fr
SUMMARY:Réunion du bureau du GT3 – Données sensibles (Novembre 2025)
DESCRIPTION:
URL:https://numeriquedeconfiance.fr/index.php/event/reunion-du-bureau-du-gt3-donnees-sensibles-novembre-2025/
END:VEVENT
BEGIN:VEVENT
DTSTART;TZID=Europe/Paris:20251119T143000
DTEND;TZID=Europe/Paris:20251119T153000
DTSTAMP:20260425T193330
CREATED:20250701T150327Z
LAST-MODIFIED:20250701T150327Z
UID:658-1763562600-1763566200@numeriquedeconfiance.fr
SUMMARY:Réunion du GT5 – Export (Novembre 2025)
DESCRIPTION:
URL:https://numeriquedeconfiance.fr/index.php/event/reunion-du-gt5-export-novembre-2025/
END:VEVENT
BEGIN:VEVENT
DTSTART;TZID=Europe/Paris:20251104T140000
DTEND;TZID=Europe/Paris:20251104T153000
DTSTAMP:20260425T193330
CREATED:20250616T131447Z
LAST-MODIFIED:20250616T131447Z
UID:612-1762264800-1762270200@numeriquedeconfiance.fr
SUMMARY:Réunion des co-présidents du CSF (Novembre 2025)
DESCRIPTION:
URL:https://numeriquedeconfiance.fr/index.php/event/reunion-des-co-presidents-du-csf-novembre-2025/
END:VEVENT
BEGIN:VEVENT
DTSTART;TZID=Europe/Paris:20251015T143000
DTEND;TZID=Europe/Paris:20251015T153000
DTSTAMP:20260425T193330
CREATED:20250701T150146Z
LAST-MODIFIED:20250701T150146Z
UID:656-1760538600-1760542200@numeriquedeconfiance.fr
SUMMARY:Réunion du GT5 – Export (Octobre 2025)
DESCRIPTION:
URL:https://numeriquedeconfiance.fr/index.php/event/reunion-du-gt5-export-octobre-2025/
END:VEVENT
BEGIN:VEVENT
DTSTART;TZID=Europe/Paris:20251014T100000
DTEND;TZID=Europe/Paris:20251014T110000
DTSTAMP:20260425T193330
CREATED:20250623T114342Z
LAST-MODIFIED:20250623T114342Z
UID:641-1760436000-1760439600@numeriquedeconfiance.fr
SUMMARY:Réunion du bureau du GT3 – Données sensibles (Octobre 2025)
DESCRIPTION:
URL:https://numeriquedeconfiance.fr/index.php/event/reunion-du-bureau-du-gt3-donnees-sensibles-octobre-2025/
END:VEVENT
BEGIN:VEVENT
DTSTART;TZID=Europe/Paris:20251007T140000
DTEND;TZID=Europe/Paris:20251007T150000
DTSTAMP:20260425T193330
CREATED:20250616T131328Z
LAST-MODIFIED:20250616T131328Z
UID:610-1759845600-1759849200@numeriquedeconfiance.fr
SUMMARY:Réunion des co-présidents du CSF (Octobre 2025)
DESCRIPTION:
URL:https://numeriquedeconfiance.fr/index.php/event/reunion-des-co-presidents-du-csf-octobre-2025/
END:VEVENT
BEGIN:VEVENT
DTSTART;TZID=Europe/Paris:20250917T143000
DTEND;TZID=Europe/Paris:20250917T153000
DTSTAMP:20260425T193330
CREATED:20250701T145815Z
LAST-MODIFIED:20250701T145815Z
UID:654-1758119400-1758123000@numeriquedeconfiance.fr
SUMMARY:Réunion du GT5 – Export (Septembre 2025)
DESCRIPTION:
URL:https://numeriquedeconfiance.fr/index.php/event/reunion-du-gt5-export-septembre-2025/
END:VEVENT
BEGIN:VEVENT
DTSTART;TZID=Europe/Paris:20250916T100000
DTEND;TZID=Europe/Paris:20250916T110000
DTSTAMP:20260425T193330
CREATED:20250623T114257Z
LAST-MODIFIED:20250623T114257Z
UID:639-1758016800-1758020400@numeriquedeconfiance.fr
SUMMARY:Réunion du bureau du GT3 – Données sensibles (Septembre 2025)
DESCRIPTION:
URL:https://numeriquedeconfiance.fr/index.php/event/reunion-du-bureau-du-gt3-donnees-sensibles-septembre-2025/
END:VEVENT
END:VCALENDAR