BEGIN:VCALENDAR
VERSION:2.0
PRODID:-//Comité Stratégique de Filière Logiciels et Solutions Numériques de Confiance - ECPv6.13.2.1//NONSGML v1.0//EN
CALSCALE:GREGORIAN
METHOD:PUBLISH
X-ORIGINAL-URL:https://numeriquedeconfiance.fr
X-WR-CALDESC:Évènements pour Comité Stratégique de Filière Logiciels et Solutions Numériques de Confiance
REFRESH-INTERVAL;VALUE=DURATION:PT1H
X-Robots-Tag:noindex
X-PUBLISHED-TTL:PT1H
BEGIN:VTIMEZONE
TZID:Europe/Paris
BEGIN:DAYLIGHT
TZOFFSETFROM:+0100
TZOFFSETTO:+0200
TZNAME:CEST
DTSTART:20260329T010000
END:DAYLIGHT
BEGIN:STANDARD
TZOFFSETFROM:+0200
TZOFFSETTO:+0100
TZNAME:CET
DTSTART:20261025T010000
END:STANDARD
END:VTIMEZONE
BEGIN:VEVENT
DTSTART;TZID=Europe/Paris:20261006T143000
DTEND;TZID=Europe/Paris:20261006T160000
DTSTAMP:20260426T035213
CREATED:20260119T103026Z
LAST-MODIFIED:20260119T103026Z
UID:898-1791297000-1791302400@numeriquedeconfiance.fr
SUMMARY:Réunion des coprésidents des groupes de travail
DESCRIPTION:Réunion mensuelle des coprésidents des groupes de travail avec revue de l’avancée des ambitions et des livrables du contrat de filière.
URL:https://numeriquedeconfiance.fr/index.php/event/reunion-des-copresidents-des-groupes-de-travail-8/
END:VEVENT
BEGIN:VEVENT
DTSTART;TZID=Europe/Paris:20261009T100000
DTEND;TZID=Europe/Paris:20261009T110000
DTSTAMP:20260426T035213
CREATED:20260204T111230Z
LAST-MODIFIED:20260204T111230Z
UID:1026-1791540000-1791543600@numeriquedeconfiance.fr
SUMMARY:Réunion du comité de pilotage du Groupe de Travail 1
DESCRIPTION:Réunion bimestrielle du comité de pilotage du Groupe de Travail 1 « Solutions » : revue de l’avancée des ambitions et des livrables attribués au Groupe de Travail par le contrat de filière.
URL:https://numeriquedeconfiance.fr/index.php/event/reunion-du-comite-de-pilotage-du-groupe-de-travail-1-9/
END:VEVENT
BEGIN:VEVENT
DTSTART;TZID=Europe/Paris:20261014T143000
DTEND;TZID=Europe/Paris:20261014T153000
DTSTAMP:20260426T035213
CREATED:20260121T161759Z
LAST-MODIFIED:20260121T161759Z
UID:951-1791988200-1791991800@numeriquedeconfiance.fr
SUMMARY:Réunion du comité de pilotage du Groupe de Travail 5 Export
DESCRIPTION:Réunion mensuelle du comité de pilotage du Groupe de Travail 5 « Export » : revue de l’avancée des ambitions et des livrables attribués au Groupe de Travail par le contrat de filière.
URL:https://numeriquedeconfiance.fr/index.php/event/reunion-du-comite-de-pilotage-du-groupe-de-travail-5-export-8/
END:VEVENT
BEGIN:VEVENT
DTSTART;TZID=Europe/Paris:20261015T150000
DTEND;TZID=Europe/Paris:20261015T160000
DTSTAMP:20260426T035213
CREATED:20260129T151205Z
LAST-MODIFIED:20260129T151205Z
UID:989-1792076400-1792080000@numeriquedeconfiance.fr
SUMMARY:Réunion du comité de pilotage du Groupe de Travail 3
DESCRIPTION:Réunion mensuelle du comité de pilotage du Groupe de Travail 3 « Données Sensibles » : revue de l’avancée des ambitions et des livrables attribués au Groupe de Travail par le contrat de filière.
URL:https://numeriquedeconfiance.fr/index.php/event/reunion-du-comite-de-pilotage-du-groupe-de-travail-3-8/
END:VEVENT
BEGIN:VEVENT
DTSTART;TZID=Europe/Paris:20261021T113000
DTEND;TZID=Europe/Paris:20261021T123000
DTSTAMP:20260426T035213
CREATED:20260119T110630Z
LAST-MODIFIED:20260119T110630Z
UID:929-1792582200-1792585800@numeriquedeconfiance.fr
SUMMARY:Réunion du comité de pilotage du Groupe de Travail 2
DESCRIPTION:Réunion mensuelle du comité de pilotage du Groupe de Travail 2 « Innovation et formation » : revue de l’avancée des ambitions et des livrables attribués au Groupe de Travail par le contrat de filière.
URL:https://numeriquedeconfiance.fr/index.php/event/reunion-du-comite-de-pilotage-du-groupe-de-travail-2-10/
END:VEVENT
END:VCALENDAR