BEGIN:VCALENDAR
VERSION:2.0
PRODID:-//Comité Stratégique de Filière Logiciels et Solutions Numériques de Confiance - ECPv6.13.2.1//NONSGML v1.0//EN
CALSCALE:GREGORIAN
METHOD:PUBLISH
X-WR-CALNAME:Comité Stratégique de Filière Logiciels et Solutions Numériques de Confiance
X-ORIGINAL-URL:https://numeriquedeconfiance.fr
X-WR-CALDESC:Évènements pour Comité Stratégique de Filière Logiciels et Solutions Numériques de Confiance
REFRESH-INTERVAL;VALUE=DURATION:PT1H
X-Robots-Tag:noindex
X-PUBLISHED-TTL:PT1H
BEGIN:VTIMEZONE
TZID:Europe/Paris
BEGIN:DAYLIGHT
TZOFFSETFROM:+0100
TZOFFSETTO:+0200
TZNAME:CEST
DTSTART:20260329T010000
END:DAYLIGHT
BEGIN:STANDARD
TZOFFSETFROM:+0200
TZOFFSETTO:+0100
TZNAME:CET
DTSTART:20261025T010000
END:STANDARD
END:VTIMEZONE
BEGIN:VEVENT
DTSTART;TZID=Europe/Paris:20261103T143000
DTEND;TZID=Europe/Paris:20261103T160000
DTSTAMP:20260426T052758
CREATED:20260119T103247Z
LAST-MODIFIED:20260119T103247Z
UID:901-1793716200-1793721600@numeriquedeconfiance.fr
SUMMARY:Réunion des coprésidents des groupes de travail
DESCRIPTION:Réunion mensuelle des coprésidents des groupes de travail avec revue de l’avancée des ambitions et des livrables du contrat de filière.
URL:https://numeriquedeconfiance.fr/index.php/event/reunion-des-copresidents-des-groupes-de-travail-9/
END:VEVENT
BEGIN:VEVENT
DTSTART;TZID=Europe/Paris:20261113T100000
DTEND;TZID=Europe/Paris:20261113T110000
DTSTAMP:20260426T052758
CREATED:20260204T111329Z
LAST-MODIFIED:20260204T111329Z
UID:1028-1794564000-1794567600@numeriquedeconfiance.fr
SUMMARY:Réunion du comité de pilotage du Groupe de Travail 1
DESCRIPTION:Réunion bimestrielle du comité de pilotage du Groupe de Travail 1 « Solutions » : revue de l’avancée des ambitions et des livrables attribués au Groupe de Travail par le contrat de filière.
URL:https://numeriquedeconfiance.fr/index.php/event/reunion-du-comite-de-pilotage-du-groupe-de-travail-1-10/
END:VEVENT
BEGIN:VEVENT
DTSTART;TZID=Europe/Paris:20261117T090000
DTEND;TZID=Europe/Paris:20261117T100000
DTSTAMP:20260426T052758
CREATED:20260129T151302Z
LAST-MODIFIED:20260129T151302Z
UID:991-1794906000-1794909600@numeriquedeconfiance.fr
SUMMARY:Réunion du comité de pilotage du Groupe de Travail 3
DESCRIPTION:Réunion mensuelle du comité de pilotage du Groupe de Travail 3 « Données Sensibles » : revue de l’avancée des ambitions et des livrables attribués au Groupe de Travail par le contrat de filière.
URL:https://numeriquedeconfiance.fr/index.php/event/reunion-du-comite-de-pilotage-du-groupe-de-travail-3-9/
END:VEVENT
BEGIN:VEVENT
DTSTART;TZID=Europe/Paris:20261118T113000
DTEND;TZID=Europe/Paris:20261118T123000
DTSTAMP:20260426T052758
CREATED:20260119T110816Z
LAST-MODIFIED:20260119T110816Z
UID:931-1795001400-1795005000@numeriquedeconfiance.fr
SUMMARY:Réunion du comité de pilotage du Groupe de Travail 2
DESCRIPTION:Réunion mensuelle du comité de pilotage du Groupe de Travail 2 « Innovation et formation » : revue de l’avancée des ambitions et des livrables attribués au Groupe de Travail par le contrat de filière.
URL:https://numeriquedeconfiance.fr/index.php/event/reunion-du-comite-de-pilotage-du-groupe-de-travail-2-11/
END:VEVENT
BEGIN:VEVENT
DTSTART;TZID=Europe/Paris:20261118T143000
DTEND;TZID=Europe/Paris:20261118T153000
DTSTAMP:20260426T052758
CREATED:20260121T161839Z
LAST-MODIFIED:20260121T161839Z
UID:953-1795012200-1795015800@numeriquedeconfiance.fr
SUMMARY:Réunion du comité de pilotage du Groupe de Travail 5 Export
DESCRIPTION:Réunion mensuelle du comité de pilotage du Groupe de Travail 5 « Export » : revue de l’avancée des ambitions et des livrables attribués au Groupe de Travail par le contrat de filière.
URL:https://numeriquedeconfiance.fr/index.php/event/reunion-du-comite-de-pilotage-du-groupe-de-travail-5-export-9/
END:VEVENT
END:VCALENDAR